BEGIN:VCALENDAR
VERSION:2.0
PRODID:-//Atlanta Radio Theatre Company - ECPv6.13.2.1//NONSGML v1.0//EN
CALSCALE:GREGORIAN
METHOD:PUBLISH
X-WR-CALNAME:Atlanta Radio Theatre Company
X-ORIGINAL-URL:https://artc.org
X-WR-CALDESC:Events for Atlanta Radio Theatre Company
REFRESH-INTERVAL;VALUE=DURATION:PT1H
X-Robots-Tag:noindex
X-PUBLISHED-TTL:PT1H
BEGIN:VTIMEZONE
TZID:America/New_York
BEGIN:DAYLIGHT
TZOFFSETFROM:-0500
TZOFFSETTO:-0400
TZNAME:EDT
DTSTART:20170312T070000
END:DAYLIGHT
BEGIN:STANDARD
TZOFFSETFROM:-0400
TZOFFSETTO:-0500
TZNAME:EST
DTSTART:20171105T060000
END:STANDARD
BEGIN:DAYLIGHT
TZOFFSETFROM:-0500
TZOFFSETTO:-0400
TZNAME:EDT
DTSTART:20180311T070000
END:DAYLIGHT
BEGIN:STANDARD
TZOFFSETFROM:-0400
TZOFFSETTO:-0500
TZNAME:EST
DTSTART:20181104T060000
END:STANDARD
BEGIN:DAYLIGHT
TZOFFSETFROM:-0500
TZOFFSETTO:-0400
TZNAME:EDT
DTSTART:20190310T070000
END:DAYLIGHT
BEGIN:STANDARD
TZOFFSETFROM:-0400
TZOFFSETTO:-0500
TZNAME:EST
DTSTART:20191103T060000
END:STANDARD
BEGIN:DAYLIGHT
TZOFFSETFROM:-0500
TZOFFSETTO:-0400
TZNAME:EDT
DTSTART:20200308T070000
END:DAYLIGHT
BEGIN:STANDARD
TZOFFSETFROM:-0400
TZOFFSETTO:-0500
TZNAME:EST
DTSTART:20201101T060000
END:STANDARD
END:VTIMEZONE
BEGIN:VTIMEZONE
TZID:UTC
BEGIN:STANDARD
TZOFFSETFROM:+0000
TZOFFSETTO:+0000
TZNAME:UTC
DTSTART:20170101T000000
END:STANDARD
END:VTIMEZONE
BEGIN:VEVENT
DTSTART;TZID=America/New_York:20200906T190000
DTEND;TZID=America/New_York:20200906T203000
DTSTAMP:20260419T130008
CREATED:20200903T143353Z
LAST-MODIFIED:20200905T153259Z
UID:10408-1599418800-1599424200@artc.org
SUMMARY:DragonCon - September 2020
DESCRIPTION:The Atlanta Radio Theatre Company has performed at every Dragon Con and gladly continues in this format. This year we bring three new scripts to the virtual stage – “Dragon’s Lament”\, a comedy\, the noir “Fallen Angel”\, and “Resurrection Eve”\, a tale of dystopian cloning.
URL:https://artc.org/event/dragoncon-september-2020/
CATEGORIES:Virtual Performance
ATTACH;FMTTYPE=image/jpeg:https://artc.org/wp-content/uploads/2020/09/Dragon-Con-Virtual.jpg
END:VEVENT
BEGIN:VEVENT
DTSTART;TZID=America/New_York:20200227T193000
DTEND;TZID=America/New_York:20200227T213000
DTSTAMP:20260419T130008
CREATED:20200209T231810Z
LAST-MODIFIED:20200209T231810Z
UID:7219-1582831800-1582839000@artc.org
SUMMARY:Stories on the Strand - February 2020
DESCRIPTION:A wily\, adventurous\, collection of original audio dramas. Come hear old favorites or brand new stories crafted just for this performance series!\n\nPerformed live at the Lumiere Lounge!\n\n\n“The show is free but the drinks are not.”
URL:https://artc.org/event/stories-on-the-strand-february-2020/
LOCATION:Strand Theatre\, 117 N. Park Square\, Marietta\, GA\, 30060\, United States
CATEGORIES:Live Performance
ATTACH;FMTTYPE=image/jpeg:https://artc.org/wp-content/uploads/2020/02/Lumiere2020Cast_square.jpg
END:VEVENT
BEGIN:VEVENT
DTSTART;VALUE=DATE:20191214
DTEND;VALUE=DATE:20191223
DTSTAMP:20260419T130008
CREATED:20190818T195920Z
LAST-MODIFIED:20191109T180450Z
UID:4143-1576281600-1577059199@artc.org
SUMMARY:An Atlanta Christmas 2019
DESCRIPTION:The 20th consecutive year for this Atlanta holiday favorite! We’ll be presenting Thomas E. Fuller’s original concept in its entirety\, once again at the Tucker Recreation Center (4898 Lavista Rd\, Tucker\, GA 30084). Saturdays at 8:00pm and Sundays at 2:30pm\, December 14-15 and 21-22. Tickets here! \nSpecial pricing!\nTo celebrate the “12 Days of An Atlanta Christmas” we give you the gift of the opportunity to save big on tickets to this cherished holiday tradition. Prices start at $5 and then will go up by $1 per day beginning on December 4. Advance tickets on the day of the show will be $17 and they’ll be $20 at the door\, so get yours early!
URL:https://artc.org/event/an-atlanta-christmas-2019/
LOCATION:Tucker Recreation Center\, 4898 Lavista Road\, Tucker\, GA\, 30084\, United States
CATEGORIES:Live Performance
ATTACH;FMTTYPE=image/jpeg:https://artc.org/wp-content/uploads/2013/11/ARTC-XMAS12-Poster-square-noPIA.jpg
END:VEVENT
BEGIN:VEVENT
DTSTART;TZID=America/New_York:20191109T190000
DTEND;TZID=America/New_York:20191109T210000
DTSTAMP:20260419T130008
CREATED:20190818T195642Z
LAST-MODIFIED:20191109T230910Z
UID:4140-1573326000-1573333200@artc.org
SUMMARY:Gwinnett County Public Library
DESCRIPTION:An encore performance of our Halloween show from the Tucker Recreation Center. \nThis show\, intended for audiences that can really take a scare\, will feature The Island of Dr. Moreau by H. G. Wells\, adapted by Thomas E. Fuller. \nAlso included in this lineup will be Haunter Hunters by Thomas Berry\, Unresolved Mysteries Solved While U Wait: UFO Abductions by Ron N. Butler\, The Crowded Graveyard by Doug Kaye\, Angelic Exchange Program by Elisabeth Allen\, and the current installment of Mercury: A Broadcast of Hope.
URL:https://artc.org/event/gwinnett-county-public-library/
LOCATION:Gwinnett County Library – Suwanee Branch\, 361 Main St.\, Suwanee\, GA\, 30024\, United States
CATEGORIES:Live Performance
ATTACH;FMTTYPE=image/png:https://artc.org/wp-content/uploads/2013/05/Moreau-digital.png
END:VEVENT
BEGIN:VEVENT
DTSTART;VALUE=DATE:20191026
DTEND;VALUE=DATE:20191028
DTSTAMP:20260419T130008
CREATED:20190818T195409Z
LAST-MODIFIED:20191003T164931Z
UID:4138-1572048000-1572220799@artc.org
SUMMARY:Halloween 2019
DESCRIPTION:Creepy things are afoot at the Tucker Rec Center in October! \nThis show\, intended for audiences that can really take a scare\, will feature The Island of Dr. Moreau by H. G. Wells\, adapted by Thomas E. Fuller. \nAlso included in this lineup will be Haunter Hunters by Thomas Berry\, Unresolved Mysteries Solved While U Wait: UFO Abductions by Ron N. Butler\, The Crowded Graveyard by Doug Kaye\, Angelic Exchange Program by Elisabeth Allen\, and the current installment of Mercury: A Broadcast of Hope. \nTickets at artc.org/campfire
URL:https://artc.org/event/halloween-2019/
LOCATION:Tucker Recreation Center\, 4898 Lavista Road\, Tucker\, GA\, 30084\, United States
CATEGORIES:Live Performance
ATTACH;FMTTYPE=image/png:https://artc.org/wp-content/uploads/2013/05/Moreau-digital.png
END:VEVENT
BEGIN:VEVENT
DTSTART;VALUE=DATE:20190829
DTEND;VALUE=DATE:20190903
DTSTAMP:20260419T130008
CREATED:20190225T143330Z
LAST-MODIFIED:20190903T195426Z
UID:4024-1567036800-1567468799@artc.org
SUMMARY:Dragon Con 2019
DESCRIPTION:ARTC returns to our biggest shows of the year! Here’s this year’s lineup! \nFriday\, August 30\, 7:00pm – Hyatt Centennial I \n\nWe Come in Peace by Dave Schroeder\nRory Rammer\, Space Marshal: The Pirates of Planetoid P by Ron N. Butler\nThe Maltese Omelette by Michael Kurland\n\nSunday\, September 1\, 7:00pm – Hyatt Regency VI-VII \n\nMercury: A Broadcast of Hope – Fanbase by David Benedict\nThe Dunwich Horror by H. P. Lovecraft\, adapted by Thomas E. Fuller
URL:https://artc.org/event/dragon-con-2019/
LOCATION:Hyatt Regency Atlanta\, 265 Peachtree St NW\, Atlanta\, GA\, 30303\, United States
CATEGORIES:Live Performance,Panel Discussions
ATTACH;FMTTYPE=image/png:https://artc.org/wp-content/uploads/2017/09/Dragoncon-Logo_no_background.png
END:VEVENT
BEGIN:VEVENT
DTSTART;VALUE=DATE:20190628
DTEND;VALUE=DATE:20190701
DTSTAMP:20260419T130008
CREATED:20190225T143149Z
LAST-MODIFIED:20190225T143149Z
UID:4022-1561680000-1561939199@artc.org
SUMMARY:Libertycon 2019
DESCRIPTION:ARTC is pleased to announce our return to one of our favorite conventions! Stay tuned for additional programming details.
URL:https://artc.org/event/libertycon-2019/
LOCATION:Chattanooga Convention Center\, One Carter Plaza\, Chattanooga\, TN\, 37402\, United States
CATEGORIES:Live Performance
ATTACH;FMTTYPE=image/jpeg:https://artc.org/wp-content/uploads/2017/09/LibertyCon-sm.jpg
END:VEVENT
BEGIN:VEVENT
DTSTART;VALUE=DATE:20190405
DTEND;VALUE=DATE:20190408
DTSTAMP:20260419T130008
CREATED:20190225T142755Z
LAST-MODIFIED:20190225T142755Z
UID:4020-1554422400-1554681599@artc.org
SUMMARY:221B Con 2019
DESCRIPTION:Returning once again to one of our favorite conventions\, ARTC brings you more audio drama about\, or inspired by\, the World’s Greatest Consulting Detective! Stay tuned for additional programming details.
URL:https://artc.org/event/221b-con-2019/
LOCATION:Atlanta Airport Marriott\, 4711 Best Road\, Atlanta\, GA\, 30337\, United States
CATEGORIES:Live Performance,Panel Discussions
ATTACH;FMTTYPE=image/jpeg:https://artc.org/wp-content/uploads/2017/09/221B_Con_Logo-lg.jpg
END:VEVENT
BEGIN:VEVENT
DTSTART;TZID=America/New_York:20190330T130000
DTEND;TZID=America/New_York:20190330T150000
DTSTAMP:20260419T130008
CREATED:20190225T141500Z
LAST-MODIFIED:20190225T142508Z
UID:4017-1553950800-1553958000@artc.org
SUMMARY:Gwinnett County Library Series
DESCRIPTION:Join members of Atlanta Radio Theatre Company as they present live drama for the community. Originals\, adaptations and re-imagined literary favorites will be featured. Stop in for a few performances or stay for the entire time. \nThis performance is FREE and open to the public!
URL:https://artc.org/event/gwinnett-county-library-series/
LOCATION:Gwinnett County Library – Five Forks Branch\, 2780 Five Forks Trickum Road\, Lawrenceville\, 30044-5865\, United States
CATEGORIES:Live Performance
ATTACH;FMTTYPE=image/jpeg:https://artc.org/wp-content/uploads/2017/10/LIVE02.jpg
END:VEVENT
BEGIN:VEVENT
DTSTART;TZID=America/New_York:20181215T200000
DTEND;TZID=America/New_York:20181216T143000
DTSTAMP:20260419T130008
CREATED:20180419T001826Z
LAST-MODIFIED:20181112T204357Z
UID:3814-1544904000-1544970600@artc.org
SUMMARY:An Atlanta Christmas 2018
DESCRIPTION:Our 19th year for this annual Atlanta holiday tradition! This year we bring our Christmas of the Imagination to the Tucker Recreation Center (4898 Lavista Rd\, Tucker\, GA 30084) for an evening filled with the Magic of Radio. \nSpecial pricing!\nTo celebrate the “12 Days of An Atlanta Christmas” we give you the gift of the opportunity to save big on tickets to this cherished holiday tradition. Prices start at $5 and then will go up by $1 per day beginning on December 4. Advance tickets on the day of the show will be $17 and they’ll be $20 at the door\, so get yours early! \nSaturday show at 8:00pm\nSunday show at 2:30pm
URL:https://artc.org/event/an-atlanta-christmas-2018/
LOCATION:Tucker Recreation Center\, 4898 Lavista Road\, Tucker\, GA\, 30084\, United States
CATEGORIES:Live Performance
ATTACH;FMTTYPE=image/jpeg:https://artc.org/wp-content/uploads/2017/08/AnAtlantaChristmas-image1200x1200-e1507655628567.jpg
END:VEVENT
BEGIN:VEVENT
DTSTART;VALUE=DATE:20181116
DTEND;VALUE=DATE:20181120
DTSTAMP:20260419T130008
CREATED:20180716T153740Z
LAST-MODIFIED:20181112T204510Z
UID:3876-1542326400-1542671999@artc.org
SUMMARY:Conjuration 2018
DESCRIPTION:Our return to this magical convention! Coming this November: ParaNoirmal Encounters. The story of a town where the supernatural is commonplace and evil forces are warded off by a team known as The Hats. Created and written by Paige Steadman. \nAlso\, a live performance of Mercury: A Broadcast of Hope.
URL:https://artc.org/event/conjuration-2018/
LOCATION:Hilton Atlanta Airport\, 1031 Virginia Avenue\, Atlanta\, GA\, 30354\, United States
CATEGORIES:Live Performance
ATTACH;FMTTYPE=image/jpeg:https://artc.org/wp-content/uploads/2018/07/ConJuration.jpg
END:VEVENT
BEGIN:VEVENT
DTSTART;VALUE=DATE:20181027
DTEND;VALUE=DATE:20181028
DTSTAMP:20260419T130008
CREATED:20180716T000655Z
LAST-MODIFIED:20180716T153549Z
UID:3873-1540598400-1540684799@artc.org
SUMMARY:Hallowcon 2018
DESCRIPTION:Our debut appearance at this convention! Stay tuned for programming details!
URL:https://artc.org/event/hallowcon-2018/
LOCATION:EconoLodge\, 1507 N. Tibbs Rd.\, Dalton\, GA\, 30720\, United States
CATEGORIES:Live Performance,Panel Discussions
ATTACH;FMTTYPE=image/jpeg:https://artc.org/wp-content/uploads/2018/07/Hallowcon2018.jpg
END:VEVENT
BEGIN:VEVENT
DTSTART;VALUE=DATE:20180830
DTEND;VALUE=DATE:20180904
DTSTAMP:20260419T130008
CREATED:20171222T150434Z
LAST-MODIFIED:20180716T001544Z
UID:3714-1535587200-1536019199@artc.org
SUMMARY:Dragon Con 2018
DESCRIPTION:Back at Dragon Con for another year! We’ve been at every one so far\, why stop now? \nShow schedule: \nFriday\, August 31: Mercury: A Broadcast of Hope\, The Dead Watcher by Kelley S. Ceccato\, and A.L.I.C.E. by Elisabeth Allen \nSunday\, September 2: Twenty Thousand Leagues Under the Sea by Jules Verne\, adapted for audio by David Benedict and Brad Strickland
URL:https://artc.org/event/dragon-con-2018/
LOCATION:Hyatt Regency Atlanta\, 265 Peachtree St NW\, Atlanta\, GA\, 30303\, United States
CATEGORIES:Live Performance
ATTACH;FMTTYPE=image/png:https://artc.org/wp-content/uploads/2017/09/Dragoncon-Logo_no_background.png
END:VEVENT
BEGIN:VEVENT
DTSTART;VALUE=DATE:20180629
DTEND;VALUE=DATE:20180702
DTSTAMP:20260419T130008
CREATED:20171222T145736Z
LAST-MODIFIED:20171222T145736Z
UID:3707-1530230400-1530489599@artc.org
SUMMARY:LibertyCon 2018
DESCRIPTION:Our 14th year at one of our favorite conventions! Programming details coming soon!
URL:https://artc.org/event/libertycon-2018/
LOCATION:Chattanooga Marriott Downtown\, Two Carter Plaza\, Chattanooga\, TN\, 37402\, United States
CATEGORIES:Live Performance
ATTACH;FMTTYPE=image/jpeg:https://artc.org/wp-content/uploads/2017/09/LibertyCon-sm.jpg
END:VEVENT
BEGIN:VEVENT
DTSTART;TZID=America/New_York:20180609T203000
DTEND;TZID=America/New_York:20180609T220000
DTSTAMP:20260419T130008
CREATED:20180528T135526Z
LAST-MODIFIED:20180528T135526Z
UID:3842-1528576200-1528581600@artc.org
SUMMARY:HEAR Now Festival
DESCRIPTION:
URL:https://artc.org/event/hear-now-festival/
LOCATION:Kansas City\, MO\, Kansas City\, MO\, United States
CATEGORIES:Live Performance
ATTACH;FMTTYPE=image/jpeg:https://artc.org/wp-content/uploads/2018/04/HNF-color-logo.jpg
END:VEVENT
BEGIN:VEVENT
DTSTART;VALUE=DATE:20180413
DTEND;VALUE=DATE:20180416
DTSTAMP:20260419T130008
CREATED:20171222T145404Z
LAST-MODIFIED:20180410T004311Z
UID:3704-1523577600-1523836799@artc.org
SUMMARY:221B Con 2018
DESCRIPTION:Our sixth year at this grand Sherlockian event! Programming details coming soon!
URL:https://artc.org/event/221b-con-2018/
LOCATION:Atlanta Airport Marriott\, 4711 Best Road\, Atlanta\, GA\, 30337\, United States
CATEGORIES:Live Performance
ATTACH;FMTTYPE=image/png:https://artc.org/wp-content/uploads/2014/02/221B_Con_Logo.png
END:VEVENT
BEGIN:VEVENT
DTSTART;VALUE=DATE:20180330
DTEND;VALUE=DATE:20180402
DTSTAMP:20260419T130008
CREATED:20171222T144926Z
LAST-MODIFIED:20180410T004316Z
UID:3701-1522368000-1522627199@artc.org
SUMMARY:Spy Con 2018
DESCRIPTION:Our debut event at this brand new convention! Programming details are being finalized\, but we can definitively tell you we will be bringing an episode of our adventure noir The Crimson Hawk!
URL:https://artc.org/event/spy-con-2018/
LOCATION:Atlanta Marriott Alpharetta\, 5750 Windward Pkwy\, Alpharetta\, GA\, 30005
CATEGORIES:Live Performance
ATTACH;FMTTYPE=image/jpeg:https://artc.org/wp-content/uploads/2017/12/spycon.jpg
END:VEVENT
BEGIN:VEVENT
DTSTART;TZID=America/New_York:20180303T190000
DTEND;TZID=America/New_York:20180303T200000
DTSTAMP:20260419T130008
CREATED:20171222T144135Z
LAST-MODIFIED:20180301T232716Z
UID:3698-1520103600-1520107200@artc.org
SUMMARY:Atlanta Sci Fi/Fantasy Expo 2018
DESCRIPTION:ARTC returns to the largest free fan experience in Atlanta! \nOn the docket for this performance: Terrific Park by George Alec Effinger\, adapted by Brad Strickland\, Rory Rammer\, Space Marshal: The Colour of the Shadow Of the Outsider Over the Mountains of Madness Out of Space by Ron N. Butler\, three episodes from our series Mildly Exciting Tales of Astonishment by Jonathan Strickland\, and a special live performance of Mercury: A Broadcast of Hope!
URL:https://artc.org/event/atlanta-sci-fifantasy-expo-2018/
LOCATION:North DeKalb Mall\, 2050 Lawrenceville Hwy\, Decatur\, GA\, 30033\, United States
CATEGORIES:Live Performance
ATTACH;FMTTYPE=image/jpeg:https://artc.org/wp-content/uploads/2017/12/Sci-Fi-Fantasy-Expo.jpg
END:VEVENT
BEGIN:VEVENT
DTSTART;VALUE=DATE:20180223
DTEND;VALUE=DATE:20180226
DTSTAMP:20260419T130008
CREATED:20171222T140529Z
LAST-MODIFIED:20171222T144338Z
UID:3695-1519344000-1519603199@artc.org
SUMMARY:ConNooga 2018
DESCRIPTION:ARTC makes its debut performance at ConNooga! We’ll be bringing you some Lovecraft with The Colour Out of Space and some Lovecraftian science fiction with Rory Rammer\, Space Marshal: The Colour of the Shadow Over the Mountains of Madness Out of Space!
URL:https://artc.org/event/connooga-2018/
LOCATION:Chattanooga Convention Center\, One Carter Plaza\, Chattanooga\, TN\, 37402\, United States
CATEGORIES:Live Performance
ATTACH;FMTTYPE=image/jpeg:https://artc.org/wp-content/uploads/2017/12/ConNooga.jpg
END:VEVENT
BEGIN:VEVENT
DTSTART;VALUE=DATE:20171209
DTEND;VALUE=DATE:20171211
DTSTAMP:20260419T130008
CREATED:20171010T171625Z
LAST-MODIFIED:20171116T213907Z
UID:3357-1512777600-1512950399@artc.org
SUMMARY:An Atlanta Christmas 2017
DESCRIPTION:TWO PERFORMANCES:  Saturday\, December 9 at 8:00 pm & Sunday\, December 10 at 2:30 pm.\nWelcome! Welcome one and all to our family Christmas\, to every family Christmas that ever was and ever will be! \nFor the 18th consecutive year\, ARTC brings you a selection of audio dramas that reveal the special celebrations of the holidays as seen through Southern eyes. Every year’s show is different\, as we have expanded upon Thomas E. Fuller’s original vision\, so if you’ve seen it before\, you haven’t seen it quite like this. Add this unique tradition into your holiday season! \nTickets available here! \nAs we did last year\, we will be celebrating the 12 days of An Atlanta Christmas with a tiered pricing structure. Tickets are just $5 until November 27 and then will go up by $1 per day until the day of the show. Advance tickets on December 9 will be $17 and if you wait to buy at the door they will be $20. The GOOD Acting Studio is a very small venue\, so get your tickets today!
URL:https://artc.org/event/an-atlanta-christmas-2017-2/
LOCATION:Good Acting Studio\, 507 Roswell Street\, Marietta\, GA\, 30060\, United States
ATTACH;FMTTYPE=image/jpeg:https://artc.org/wp-content/uploads/2017/08/AnAtlantaChristmas-image1200x1200-e1507655628567.jpg
END:VEVENT
BEGIN:VEVENT
DTSTART;VALUE=DATE:20170929
DTEND;VALUE=DATE:20171002
DTSTAMP:20260419T130008
CREATED:20170913T231908Z
LAST-MODIFIED:20170913T231908Z
UID:479-1506643200-1506902399@artc.org
SUMMARY:Monsterama
DESCRIPTION:Our debut appearance at Monsterama! Presenting The Brides of Dracula!
URL:https://artc.org/event/monsterama/
LOCATION:Atlanta Marriott Alpharetta\, 5750 Windward Pkwy\, Alpharetta\, GA\, 30005
ATTACH;FMTTYPE=image/jpeg:https://artc.org/wp-content/uploads/2017/09/monsteramabanner2017-website-1.jpg
END:VEVENT
BEGIN:VEVENT
DTSTART;VALUE=DATE:20170901
DTEND;VALUE=DATE:20170905
DTSTAMP:20260419T130008
CREATED:20170913T230902Z
LAST-MODIFIED:20170913T231015Z
UID:474-1504224000-1504569599@artc.org
SUMMARY:Dragon Con 2017
DESCRIPTION:It’s that time again! Dragon Con – the place where sleep goes to die – and this year we’re bringing you TWO amazing shows and we’re going to tell you about a third one. Plus an important change to our routine! Here’s the schedule as we have it:\n\n\nFriday night\, 7:00pm – A bit of a variety show as we preview the next story we’ll be telling on the Centauri Express Audio Magazine\, Nairobi Jack and the Lost Gold of the Atlantimengani\, introducing our Dragon Con audience to a new series by Ron N. Butler\, The Three Galaxateers\, and the triumphant return of Rory Rammer\, Space Marshal: The Last Boojum!\nHere’s the big change: This show will take place in the Imperial Ballroom at the Marriott\, not in our usual location in the Hyatt Regency.\n\n  \nSunday afternoon\, 1:00pm – The Blood Crow Stories will present their first ever LIVE performance. Come see ARTC personnel assist with tech and play some of your favorite TBCS characters! \n\n\n\n \n\nSunday evening\, 7:00pm – ARTC is proud to present the 20th anniversary performance of Thomas E. Fuller’s The Brides of Dracula. First performed at Dragon Con 1997 and then repeated at Stage Door Players in Dunwoody in 2007 this powerhouse of music\, lust\, and blood is NOT your parent’s Dracula. Featuring music by Alton Leonard and special guests The Ghosts Project. 
URL:https://artc.org/event/dragon-con-2017/
LOCATION:265 Peachtree St NW\, Atlanta\, GA\, 30303\, United States
ATTACH;FMTTYPE=image/png:https://artc.org/wp-content/uploads/2017/09/Dragoncon-Logo_no_background.png
END:VEVENT
BEGIN:VEVENT
DTSTART;VALUE=DATE:20170630
DTEND;VALUE=DATE:20170703
DTSTAMP:20260419T130008
CREATED:20170917T204725Z
LAST-MODIFIED:20170917T211043Z
UID:2885-1498780800-1499039999@artc.org
SUMMARY:LibertyCon2017
DESCRIPTION:ARTC returns to LibertyCon in Chattanooga\, TN! Details\, including exact show time and programming\, coming soon!
URL:https://artc.org/event/libertycon2017/
LOCATION:The Chattanooga Choo Choo\, 1400 Market Street\, Chattanooga\, TN\, United States
ATTACH;FMTTYPE=image/jpeg:https://artc.org/wp-content/uploads/2017/09/LibertyCon-sm.jpg
END:VEVENT
BEGIN:VEVENT
DTSTART;TZID=America/New_York:20170407T160000
DTEND;TZID=America/New_York:20170409T170000
DTSTAMP:20260419T130008
CREATED:20170917T205943Z
LAST-MODIFIED:20170917T210102Z
UID:2890-1491580800-1491757200@artc.org
SUMMARY:221B Con 2017
DESCRIPTION:ARTC returns to 221B Con! \nShowtime: Saturday\, April 8\, 4:00pm \nLineup: \nThe debut of “Multiverse Travel” where you pick not only your geographic destination\, but your temporal one as well! Plus a visit to the DMV. Also\, the continuation of one of our newest series\, “ParaNOIRmal Encounters” and a return to one of our oldest as we bring back mystery crimefighter The Crimson Hawk in “The Widow’s Web”! \nThere will also be a discussion panel at 7:00pm to discuss Storytelling Through Sound! See you all at the convention! \n  \n  \n  \n  \n\nNext show: LibertyCon\, June 30-July 2\, 2017\nFull performance calendar here!
URL:https://artc.org/event/221b-con-2017/
LOCATION:Atlanta Marriott Century Center\, 246 Perimeter Center Parkway NE\, Atlanta\, GA\, 30346\, United States
ATTACH;FMTTYPE=image/jpeg:https://artc.org/wp-content/uploads/2017/09/221B_Con_Logo-lg.jpg
END:VEVENT
BEGIN:VEVENT
DTSTART;VALUE=DATE:20170311
DTEND;VALUE=DATE:20170313
DTSTAMP:20260419T130008
CREATED:20170917T210937Z
LAST-MODIFIED:20170917T210937Z
UID:2895-1489190400-1489363199@artc.org
SUMMARY:Atlanta SF and Fantasy Expo 2017
DESCRIPTION:Showtime: Saturday\, March 11 at 7:00pm \nTickets: NONE! This is a FREE event! Come on by! \nFeaturing the following exciting performances! \nRory Rammer\, Space Marshal: The Last Boojum – Written by Ron N. Butler\, Directed by Paige SteadmanARTC’s fan-favorite serial returns with a brand new episode! Marshal Rory Rammer and newly-promoted Brevet-Marshal Skip Sagan journey to the asteroid belt to confront a menace quite unlike any they’ve ever encountered before. It defies all description – because to describe it or even identify it risks unleashing its terrible power on all those nearby. Can Professor Feynman guide the Marshals to successfully get the … thingamajig … safely into the containment unit? Will robotic officer DARIL T-8 be of assistance? And just where did the last … whatsit … come from?ParaNOIRmal Encounters: Winter Solstice – Written by Paige Steadman\, Directed by Robert DrakeEvery year\, trees are brought in for the end-of-year holidays\, and with those trees come tree spirits who need protection from the cold of winter. But modern decorating practices have led to many people using artificial trees\, leaving the tree spirits stranded outside where they risk freezing to death. But dealing with that risk draws attention to the fact that the weather has actually been unnaturally warm. What follows is an investigation by a special team called the Hats\, made up of housecats\, werewolves\, and other strange creatures. Will they find what’s causing the unseasonable weather? Can they overcome the power of vampires\, mages\, and other supernatural evils? And what do ducks have to do with it?Mildly Exciting Tales of Astonishment – Written by Jonathan Strickland\, Directed by Chris JonesFrom the pages of nowhere in particular come these four stories of individuals with incredible powers dealing with mundane workaday tasks. Experience the thrill of sitting in with our intrepid heroes as they have a business meeting! Feel the anxiety as a consultant advises eliminating two members of the group! Go undercover with the city’s champions at a speed dating event! And get an up-close view of how staffing needs lead our menacing villains to conduct job interviews to bolster their ranks! All this and more in META!
URL:https://artc.org/event/atlanta-sf-and-fantasy-expo-2017/
LOCATION:North DeKalb Mall\, 2050 Lawrenceville Hwy\, Decatur\, GA\, 30033\, United States
END:VEVENT
END:VCALENDAR