BEGIN:VCALENDAR
VERSION:2.0
PRODID:-//Atlanta Radio Theatre Company - ECPv6.13.2.1//NONSGML v1.0//EN
CALSCALE:GREGORIAN
METHOD:PUBLISH
X-ORIGINAL-URL:https://artc.org
X-WR-CALDESC:Events for Atlanta Radio Theatre Company
REFRESH-INTERVAL;VALUE=DURATION:PT1H
X-Robots-Tag:noindex
X-PUBLISHED-TTL:PT1H
BEGIN:VTIMEZONE
TZID:America/New_York
BEGIN:DAYLIGHT
TZOFFSETFROM:-0500
TZOFFSETTO:-0400
TZNAME:EDT
DTSTART:20260308T070000
END:DAYLIGHT
BEGIN:STANDARD
TZOFFSETFROM:-0400
TZOFFSETTO:-0500
TZNAME:EST
DTSTART:20261101T060000
END:STANDARD
END:VTIMEZONE
BEGIN:VEVENT
DTSTART;TZID=America/New_York:20260627T180000
DTEND;TZID=America/New_York:20260627T200000
DTSTAMP:20260421T230254
CREATED:20260421T145117Z
LAST-MODIFIED:20260421T145117Z
UID:21147-1782583200-1782590400@artc.org
SUMMARY:2026 Libertycon
DESCRIPTION:ARTC makes its triumphant return to Libertycon with all new programming\, including Solution Unsatisfactory by Robert A. Heinlein\, adapted for audio by Daniel Taylor\, and Rory Rammer\, Space Marshal: The Angel of Destruction written for audio by Ron N. Butler
URL:https://artc.org/event/2026-libertycon/
LOCATION:Chattanooga Convention Center\, One Carter Plaza\, Chattanooga\, TN\, 37402\, United States
CATEGORIES:Live Performance
ATTACH;FMTTYPE=image/png:https://artc.org/wp-content/uploads/2013/05/SolutionUnsatisfactor-digital.png
END:VEVENT
BEGIN:VEVENT
DTSTART;TZID=America/New_York:20260904T190000
DTEND;TZID=America/New_York:20260904T200000
DTSTAMP:20260421T230254
CREATED:20260421T145813Z
LAST-MODIFIED:20260421T145813Z
UID:21151-1788548400-1788552000@artc.org
SUMMARY:Dragon Con 2026 - Friday show
DESCRIPTION:ARTC celebrates the 40th anniversary of Dragon Con by bringing you classic cosmic horror from the master of the genre\, H. P. Lovecraft. The Call of C’thulhu was the first story ARTC presented at the first Dragon Con. Sadly the adaptation by Gerald W. Page has been lost to history\, but Ron N. Butler’s take on the story will leave you with chills! Featuring music by Paul Mercer and Davis Petterson!
URL:https://artc.org/event/dragon-con-2026-friday-show/
LOCATION:Dragon Con\, 265 Peachtree Rd NE\, Atlanta\, GA\, 30303\, United States
CATEGORIES:Live Performance
ATTACH;FMTTYPE=image/png:https://artc.org/wp-content/uploads/2017/08/The-Call-Of-Cthulhu.png
END:VEVENT
BEGIN:VEVENT
DTSTART;TZID=America/New_York:20261029T190000
DTEND;TZID=America/New_York:20261029T203000
DTSTAMP:20260421T230254
CREATED:20260421T150321Z
LAST-MODIFIED:20260421T150321Z
UID:21153-1793300400-1793305800@artc.org
SUMMARY:Halloween at Roswell Cultural Arts Center 2026
DESCRIPTION:ARTC returns to the Roswell Cultural Arts Center with a tour de force of audio programming. Featuring The Passion of Frankenstein by Thomas E. Fuller and also including Candle Magic by Kelley S. Ceccato and Teig O’Kane and the Corpse by Ellie Cook!
URL:https://artc.org/event/halloween-at-roswell-cultural-arts-center-2026/
LOCATION:Roswell Cultural Arts Center\, 950 Forrest Street\, Roswell\, GA\, 30075\, United States
CATEGORIES:Live Performance
ATTACH;FMTTYPE=image/png:https://artc.org/wp-content/uploads/2013/05/PassionOfFrankenstein-digital.png
END:VEVENT
END:VCALENDAR